BEGIN:VCALENDAR
VERSION:2.0
PRODID:-//La Malinche - ECPv6.15.20//NONSGML v1.0//EN
CALSCALE:GREGORIAN
METHOD:PUBLISH
X-ORIGINAL-URL:https://lamalinchelibreria.com
X-WR-CALDESC:Eventos para La Malinche
REFRESH-INTERVAL;VALUE=DURATION:PT1H
X-Robots-Tag:noindex
X-PUBLISHED-TTL:PT1H
BEGIN:VTIMEZONE
TZID:Europe/Madrid
BEGIN:DAYLIGHT
TZOFFSETFROM:+0100
TZOFFSETTO:+0200
TZNAME:CEST
DTSTART:20240331T010000
END:DAYLIGHT
BEGIN:STANDARD
TZOFFSETFROM:+0200
TZOFFSETTO:+0100
TZNAME:CET
DTSTART:20241027T010000
END:STANDARD
BEGIN:DAYLIGHT
TZOFFSETFROM:+0100
TZOFFSETTO:+0200
TZNAME:CEST
DTSTART:20250330T010000
END:DAYLIGHT
BEGIN:STANDARD
TZOFFSETFROM:+0200
TZOFFSETTO:+0100
TZNAME:CET
DTSTART:20251026T010000
END:STANDARD
BEGIN:DAYLIGHT
TZOFFSETFROM:+0100
TZOFFSETTO:+0200
TZNAME:CEST
DTSTART:20260329T010000
END:DAYLIGHT
BEGIN:STANDARD
TZOFFSETFROM:+0200
TZOFFSETTO:+0100
TZNAME:CET
DTSTART:20261025T010000
END:STANDARD
END:VTIMEZONE
BEGIN:VEVENT
DTSTART;TZID=Europe/Madrid:20250607T123000
DTEND;TZID=Europe/Madrid:20250607T133000
DTSTAMP:20260419T215844
CREATED:20250605T172017Z
LAST-MODIFIED:20250605T172017Z
UID:1275-1749299400-1749303000@lamalinchelibreria.com
SUMMARY:María Evoli\, Hoy voy a ver el cielo
DESCRIPTION:El próximo sábado\, 07 de junio a las 12.30h\, María Evoli presenta su poemario Hoy voy a ver el cielo en compañía de la escritora mexicana Sara Guerrero. 🌤️ \nMaría Evoli (Ciudad de México\, 1990) \nEs una artista interdisciplinaria mexicana con formación universitaria en Letras Hispánicas y Actuación y Teatro. Es ganadora del Ariel 2017 como Actriz Revelación por su participación en Tenemos la Carne. Tiene experiencia en escritura de guiones para radio con su programa En todas partes transmitido por Radio Tropiezo del Colectivo Cráter Invertido. Desde el 2019 comenzó a explorar la cámara y el video con interés en lo experimental. Dallas (2022) y Removiendo las nubes (2023) son sus primeros cortometrajes como directora. \n¡Les esperamos! ☺️\n.
URL:https://lamalinchelibreria.com/event/maria-evoli-hoy-voy-a-ver-el-cielo/
LOCATION:La Malinche\, Aragó 127\, Barcelona\, Barcelona\, 08015\, Spain
CATEGORIES:Presentación
ATTACH;FMTTYPE=image/webp:https://lamalinchelibreria.com/wp-content/uploads/2025/06/evoli.webp
END:VEVENT
BEGIN:VEVENT
DTSTART;TZID=Europe/Madrid:20250612T190000
DTEND;TZID=Europe/Madrid:20250612T200000
DTSTAMP:20260419T215844
CREATED:20250605T173550Z
LAST-MODIFIED:20250605T173550Z
UID:1279-1749754800-1749758400@lamalinchelibreria.com
SUMMARY:N. Pino Luna\, Mientras dormías cantabas
DESCRIPTION:El próximo jueves\, 12 de junio a las 19h\, tenemos el placer de recibir a N. Pino Luna\, que presenta su libro Mientras dormías\, cantabas\, editado por Gabriela Wiener en Yegua de Troya. Le acompaña Mar García Puig. 🐎 \nPino Luna (Santiago de Chile\, 1990) \nEs escritora y profesora. Le interesa la palabra fisurada\, las estructuras de la enfermedad y la pasión. El año 2021 publicó en Chile su primera novela\, Mientras dormías\, cantabas\, libro que le valió la mención especial a Mejor novela de los Premios literarios del Ministerio de las Culturas (2022)\, el Premio José Nuez Martín de novela de la Pontificia Universidad Católica de Chile (2023) y el premio Atenea de narrativa de la Universidad de Concepción (2023). Actualmente trabaja en su segunda novela y en un libro de ensayos. \nEntrada libre hasta completar aforo. ¡Les esperamos! ❤️
URL:https://lamalinchelibreria.com/event/n-pino-luna-mientras-dormias-cantabas/
LOCATION:La Malinche\, Aragó 127\, Barcelona\, Barcelona\, 08015\, Spain
CATEGORIES:Presentación
ATTACH;FMTTYPE=image/webp:https://lamalinchelibreria.com/wp-content/uploads/2025/06/mientras.webp
END:VEVENT
BEGIN:VEVENT
DTSTART;TZID=Europe/Madrid:20250619T190000
DTEND;TZID=Europe/Madrid:20250619T203000
DTSTAMP:20260419T215844
CREATED:20250616T111500Z
LAST-MODIFIED:20250616T111500Z
UID:1318-1750359600-1750365000@lamalinchelibreria.com
SUMMARY:Karina Sosa\, Orfandad
DESCRIPTION:l próximo jueves\, 19 de junio a las 19h\, tenemos el placer de presentar el libro Orfandad de Karina Sosa. Le acompaña Luna Miguel. 🌺 \nKARINA SOSA (Oaxaca\, 1987) \nEs escritora y editora. Ha publicado en Después del derrumbe: Narrativa joven de Oaxaca (2009) y Cartografía de la literatura oaxaqueña actual II (2012)\, de Editorial Almadía. Publicó la novela Caballo fantasma\, en 2020\, obra ganadora del Premio Primera Novela patrocinado por Amazon México y la Estrategia Nacional de Lectura\, en 2021. Actualmente estudia Historia del Arte. Le interesa viajar para conocer museos. \n¡Les esperamos! 🤗
URL:https://lamalinchelibreria.com/event/karina-sosa-orfandad/
LOCATION:Barcelona
CATEGORIES:Presentación
ATTACH;FMTTYPE=image/webp:https://lamalinchelibreria.com/wp-content/uploads/2025/06/504822251_17861474922424977_114841416845401269_n.webp
END:VEVENT
BEGIN:VEVENT
DTSTART;TZID=Europe/Madrid:20250621T123000
DTEND;TZID=Europe/Madrid:20250621T140000
DTSTAMP:20260419T215844
CREATED:20250616T110832Z
LAST-MODIFIED:20250616T111214Z
UID:1315-1750509000-1750514400@lamalinchelibreria.com
SUMMARY:Purita Pelayo\, Los fantasmas se cabrearon
DESCRIPTION:El próximo sábado\, 21 de junio a las 12.30h\, tenemos el placer de recibir a Purita Pelayo que presenta su libro Los fantasmas se cabrearon\, editado por @severoeditorial. Le acompaña la escritora e investigadora ecuatoriana @mafe_moscoso. 🏵️ \nPURITA PELAYO (Ecuador\, 1957) \nEs una escritora y activista travesti. Fue una de las fundadoras y la presidenta de la Asociación Coccinelle\, primera organización de personas transgénero en la historia de Ecuador y que tuvo un papel protagónico en la campaña por la despenalización de la homosexualidad en el país\, que logró su objetivo en noviembre de 1997. Es Premio José Peralta de ensayo por Los fantasmas se cabrearon. \n¡Les esperamos! ❤️‍🔥
URL:https://lamalinchelibreria.com/event/purita-pelayo-los-fantasmas-se-cabrearon/
LOCATION:Barcelona
CATEGORIES:Presentación
ATTACH;FMTTYPE=image/webp:https://lamalinchelibreria.com/wp-content/uploads/2025/06/506082560_17861790594424977_7045955708264540061_n.webp
END:VEVENT
BEGIN:VEVENT
DTSTART;TZID=Europe/Madrid:20250625T190000
DTEND;TZID=Europe/Madrid:20250625T203000
DTSTAMP:20260419T215844
CREATED:20250619T115552Z
LAST-MODIFIED:20250619T115552Z
UID:1321-1750878000-1750883400@lamalinchelibreria.com
SUMMARY:Gabriela Cabezón Cámara\, La virgen cabeza
DESCRIPTION:GABRIELA CABEZÓN CÁMARA (Argentina\, 1968) \nHa ejercido múltiples oficios\, desde vender seguros de auto en la calle hasta el periodismo cultural. Actualmente imparte talleres de escritura. Traducida a más de una decena de idiomas\, es autora de las nouvelles Le viste la cara a Dios (2011) y Romance de la Negra Rubia (2014)\, y de las novelas La Virgen Cabeza (2009) y Las aventuras de la China Iron\, finalista en la shortlist del International Booker Prize (2020) y del Médicis (2021).
URL:https://lamalinchelibreria.com/event/gabriela-cabezon-camara-la-virgen-cabeza/
LOCATION:La Malinche\, Aragó 127\, Barcelona\, Barcelona\, 08015\, Spain
CATEGORIES:Presentación
ATTACH;FMTTYPE=image/jpeg:https://lamalinchelibreria.com/wp-content/uploads/2025/06/gabriela.jpg
END:VEVENT
END:VCALENDAR